Felt | Verdi |
AELock | Off |
AFAreas | (115,117)-(138,137) |
AFFineTune | Off |
AFFineTuneAdj | 0 0 0 |
AFPoint | Left (or n/a) |
AFPointSelected | (49%,49%) (49%,49%) |
AFSearch | Ready |
AlreadyApplied | True |
Aperture | 9.0 |
ApertureValue | 9.0 |
ArtFilter | Off; 0; 0; 0 |
ArtFilterEffect | Off; 0; 0; Partial Color 0; No Effect; 0; No Color Filter; 0; 0; 0; 0; 0; 0; 0; 0; 0; 0; 0; 0; 0 |
AspectFrame | 0 0 4607 3455 |
AspectRatio | 4:3 |
AutoLateralCA | 0 |
AutoWhiteVersion | 134348800 |
BitsPerSample | 8 |
BlackLevel2 | 248 249 249 248 |
Blacks2012 | 0 |
BlueBalance | 1.648438 |
BlueHue | 0 |
BlueSaturation | 0 |
BodyFirmwareVersion | 1.103 |
CameraID | OLYMPUS DIGITAL CAMERA |
CameraProfile | Adobe Standard |
CameraSettingsVersion | 0100 |
CameraTemperature | 39 |
CameraType2 | E-M10MarkII |
CFAPattern | [Red,Green][Green,Blue] |
CircleOfConfusion | 0.015 mm |
Clarity2012 | +10 |
ColorComponents | 3 |
ColorCreatorEffect | Color 0; 0; 29; Strength 0; -4; 3 |
ColorMatrix | 428 -140 -32 -68 380 -56 14 -128 370 |
ColorNoiseReduction | 25 |
ColorNoiseReductionDetail | 50 |
ColorNoiseReductionSmoothness | 50 |
ColorSpace | sRGB |
ColorTemperature | 5750 |
Contrast | Normal |
Contrast2012 | 0 |
ContrastSetting | 0 (min -5, max 5) |
ConversionLens | |
ConvertToGrayscale | False |
CreateDate | 2017:07:28 21:56:39 |
CreatorTool | DxO PhotoLab 7.3 |
CropAngle | 0 |
CropBottom | 1 |
CropConstrainToWarp | 0 |
CropHeight | 3456 |
CropLeft (1) | 8 0 |
CropLeft | 0 |
CropRight | 1 |
CropTop (1) | 8 0 |
CropTop | 0.132664 |
CropWidth | 4608 |
CustomRendered | Normal |
CustomSaturation | 0 (min -5, max 5) |
DateCreated | 2017:07:28 21:56:39 |
DateTimeOriginal (1) | 2017:07:28 21:56:39+00:00 |
DateTimeOriginal | 2017:07:28 21:56:39 |
DateTimeUTC | 2017:07:28 19:56:39 |
DefringeGreenAmount | 0 |
DefringeGreenHueHi | 60 |
DefringeGreenHueLo | 40 |
DefringePurpleAmount | 0 |
DefringePurpleHueHi | 70 |
DefringePurpleHueLo | 30 |
Dehaze | 0 |
Description | OLYMPUS DIGITAL CAMERA |
DigitalZoomRatio | 1 |
DistortionCorrection | Off |
DistortionCorrection2 | Off |
DOF | inf (3.89 m - inf) |
DriveMode | Continuous Shooting, Shot 1; Anti-shock 0 |
EquipmentVersion | 0100 |
ExifImageHeight (1) | 3456 |
ExifImageHeight | 1347 |
ExifImageWidth (1) | 4608 |
ExifImageWidth | 2000 |
Exposure2012 | +0.48 |
ExposureCompensation | -0.3 |
ExposureMode (1) | Shutter speed priority AE |
ExposureMode | Manual |
ExposureProgram | Shutter speed priority AE |
ExposureShift | 0 |
ExposureTime | 1/125 |
ExtendedWBDetect | Off |
Extender | None |
ExtenderFirmwareVersion | 0 |
ExtenderModel | |
ExtenderSerialNumber | |
ExtenderStatus | Not attached |
ExternalFlash | Off |
ExternalFlashBounce | Bounce or Off |
ExternalFlashZoom | 0 |
FaceDetectFrameCrop | 0 0 640 480 0 0 640 480 0 0 0 0 |
FaceDetectFrameSize | 640 480 640 480 0 0 |
FacesDetected | 0 0 0 |
Flash | On, Did not fire |
FlashCompensation | 0 |
FlashControlMode | Off; 0; 0; 0 |
FlashExposureComp | 0 |
FlashFired | False |
FlashFirmwareVersion | 0 |
FlashFunction | False |
FlashIntensity | n/a (x4) |
FlashMode (1) | On |
FlashMode | Fill-in |
FlashModel | None |
FlashRedEyeMode | False |
FlashRemoteControl | Off |
FlashReturn | No return detection |
FlashSerialNumber | |
FlashType | None |
FNumber | 9.0 |
FocalLength | 25.0 mm |
FocalLength35efl | 25.0 mm (35 mm equivalent: 50.0 mm) |
FocalLengthIn35mmFormat | 50 mm |
FocusDistance | 24.355 m |
FocusInfoVersion | 0100 |
FocusMode | Single AF; S-AF, Imager AF |
FocusProcess | AF Used; 64 |
FocusStepCount | 387 |
FocusStepInfinity | 0 |
FocusStepNear | 0 |
Format | image/x-olympus-raw |
FOV | 39.6 deg (17.52 m) |
GainBase | 256 |
GainControl | High gain up |
GPSVersionID | 2.3.0.0 |
Gradation | Normal; User-Selected |
GrainAmount | 0 |
GreenHue | 0 |
GreenSaturation | 0 |
HasCrop | True |
HasSettings | True |
HierarchicalSubject | Herføl, Hvaler |
Highlights2012 | +5 |
HueAdjustmentAqua | 0 |
HueAdjustmentBlue | 0 |
HueAdjustmentGreen | 0 |
HueAdjustmentMagenta | 0 |
HueAdjustmentOrange | 0 |
HueAdjustmentPurple | 0 |
HueAdjustmentRed | 0 |
HueAdjustmentYellow | 0 |
HyperfocalDistance | 4.62 m |
ImageDescription | OLYMPUS DIGITAL CAMERA |
ImageHeight (1) | 3456 |
ImageHeight | 1347 |
ImageProcessingVersion | 0112 |
ImageSize | 2000x1347 |
ImageStabilization | On, Mode 4 |
ImageWidth (1) | 4608 |
ImageWidth | 2000 |
InternalFlash | Off |
InternalSerialNumber | 4173510059036001 |
ISO | 800 |
KeystoneCompensation | Off |
KeystoneDirection | Vertical |
KeystoneValue | 0 -20 20 |
Lens | LUMIX G 25/F1.7 |
LensFirmwareVersion | 1.000 |
LensID | Lumix G 25mm F1.7 Asph. |
LensInfo | 25mm f/1.7 |
LensManualDistortionAmount | 0 |
LensModel | LUMIX G 25/F1.7 |
LensProfileEnable | 0 |
LensProfileSetup | LensDefaults |
LensProperties | 0x4100 |
LensSerialNumber | 05JX4092204E |
LensType | Lumix G 25mm F1.7 Asph. |
LightSource | Unknown |
LightValue | 10.3 |
LuminanceAdjustmentAqua | 0 |
LuminanceAdjustmentBlue | 0 |
LuminanceAdjustmentGreen | +31 |
LuminanceAdjustmentMagenta | 0 |
LuminanceAdjustmentOrange | 0 |
LuminanceAdjustmentPurple | 0 |
LuminanceAdjustmentRed | 0 |
LuminanceAdjustmentYellow | 0 |
LuminanceNoiseReductionContrast | 0 |
LuminanceNoiseReductionDetail | 50 |
LuminanceSmoothing | 25 |
MacroLED | Off |
MacroMode | Off |
Make | OLYMPUS CORPORATION |
ManometerPressure | 0 kPa |
ManometerReading | 0 m, 0 ft |
ManualFlash | Off |
ManualFlashStrength | n/a (x4) |
MaxAperture | 1.8 |
MaxApertureAtMaxFocal | 1.7 |
MaxApertureAtMinFocal | 1.7 |
MaxApertureValue | 1.7 |
MaxFaces | 8 8 0 |
MaxFocalLength | 25 |
Megapixels | 2.7 |
MeteringMode (1) | Multi-segment |
MeteringMode | ESP |
MinFocalLength | 25 |
Model | E-M10MarkII |
ModifiedSaturation | Off |
ModifyDate (1) | 2024:01:29 17:56:53+01:00 |
ModifyDate | 2024:01:29 17:56:53 |
MultipleExposureMode | Off; 1 |
NoiseFilter | Standard |
NoiseReduction | (none) |
NoiseReduction2 | (none) |
Orientation | Horizontal (normal) |
PanoramaMode | Off |
ParametricDarks | 0 |
ParametricHighlights | 0 |
ParametricHighlightSplit | 75 |
ParametricLights | 0 |
ParametricMidtoneSplit | 50 |
ParametricShadows | 0 |
ParametricShadowSplit | 25 |
PerspectiveAspect | 0 |
PerspectiveHorizontal | 0 |
PerspectiveRotate | 0.0 |
PerspectiveScale | 100 |
PerspectiveUpright | 0 |
PerspectiveVertical | 0 |
PerspectiveX | 0.00 |
PerspectiveY | 0.00 |
PictureMode | Natural; 2 |
PictureModeBWFilter | n/a |
PictureModeContrast | 0 (min -2, max 2) |
PictureModeEffect | Standard |
PictureModeSaturation | 0 (min -2, max 2) |
PictureModeSharpness | 0 (min -2, max 2) |
PictureModeTone | n/a |
PostCropVignetteAmount | 0 |
PrintIMVersion | 0300 |
ProcessVersion | 6.7 |
Rating | 1 |
RatingPercent | 1 |
RawDevColorSpace | sRGB |
RawDevContrastValue | 0 0 0 |
RawDevEditStatus | Original |
RawDevEngine | High Speed |
RawDevExposureBiasValue | 0 |
RawDevGrayPoint | 0 0 0 |
RawDevMemoryColorEmphasis | 0 |
RawDevNoiseReduction | (none) |
RawDevSaturationEmphasis | 0 0 0 |
RawDevSettings | (none) |
RawDevSharpnessValue | 0 0 0 |
RawDevVersion | 0100 |
RawDevWBFineAdjustment | 0 |
RawDevWhiteBalanceValue | 0 |
RawFileName | P7280245.ORF |
RedBalance | 2 |
RedHue | 0 |
RedSaturation | 0 |
Saturation (2) | 0 |
Saturation | Normal |
SaturationAdjustmentAqua | 0 |
SaturationAdjustmentBlue | 0 |
SaturationAdjustmentGreen | 0 |
SaturationAdjustmentMagenta | 0 |
SaturationAdjustmentOrange | 0 |
SaturationAdjustmentPurple | 0 |
SaturationAdjustmentRed | 0 |
SaturationAdjustmentYellow | 0 |
ScaleFactor35efl | 2.0 |
SceneCaptureType | Standard |
SceneDetect | 0 |
SceneMode | Standard |
SensitivityType (1) | 1 |
SensitivityType | Standard Output Sensitivity |
SensorCalibration | 4094 256 |
SensorTemperature | 40 40 0 C |
SerialNumber | BHLA27819 |
ShadingCompensation | Off |
ShadingCompensation2 | Off |
Shadows2012 | +88 |
ShadowTint | 0 |
SharpenDetail | 25 |
SharpenEdgeMasking | 0 |
SharpenRadius | +1.0 |
Sharpness (2) | 25 |
Sharpness | Normal |
SharpnessSetting | 0 (min -5, max 5) |
ShutterSpeed | 1/125 |
ShutterSpeedValue | 1/125 |
SidecarForExtension | ORF |
Software | DxO PhotoLab 7.3 |
SpecialMode | Fast, Sequence: 1, Panorama: (none) |
SplitToningBalance | 0 |
SplitToningHighlightHue | 0 |
SplitToningHighlightSaturation | 0 |
SplitToningShadowHue | 0 |
SplitToningShadowSaturation | 0 |
StackedImage | No |
Subject | Herføl, Hvaler |
SubjectDistance | 24.355 m |
Tint | +1 |
ToneCurve | 0, 0, 32, 22, 64, 56, 128, 128, 192, 196, 255, 255 |
ToneCurveBlue | 0, 0, 255, 255 |
ToneCurveGreen | 0, 0, 255, 255 |
ToneCurveName | Medium Contrast |
ToneCurveName2012 | Linear |
ToneCurvePV2012 | 0, 0, 255, 255 |
ToneCurvePV2012Blue | 0, 0, 255, 255 |
ToneCurvePV2012Green | 0, 0, 255, 255 |
ToneCurvePV2012Red | 0, 0, 255, 255 |
ToneCurveRed | 0, 0, 255, 255 |
ToneLevel | Highlights; 0; -7; 7; Shadows; 0; -7; 7; 0; 0; 0; 0; 0; 0; 0; 0; 0; 0; 0; 0; 0; 0; 0; 0; 0; 0; 0; 0 |
ToneMapStrength | 0 |
UserComment | |
ValidBits | 12 0 |
Version | 9.12 |
Vibrance | +14 |
VignetteAmount | 0 |
WB_RBLevels | 512 422 256 256 |
WB_RBLevels3000K | 294 880 256 256 |
WB_RBLevels3300K | 354 688 256 256 |
WB_RBLevels3600K | 378 632 256 256 |
WB_RBLevels3900K | 398 588 256 256 |
WB_RBLevels4000K | 488 690 256 256 |
WB_RBLevels4300K | 422 552 256 256 |
WB_RBLevels4500K | 476 546 256 256 |
WB_RBLevels4800K | 454 506 256 256 |
WB_RBLevels5300K | 480 470 256 256 |
WB_RBLevels6000K | 518 426 256 256 |
WB_RBLevels6600K | 550 438 256 256 |
WB_RBLevels7500K | 560 368 256 256 |
WB_RBLevelsCWB1 | 384 384 256 256 |
WB_RBLevelsCWB2 | 384 384 256 256 |
WB_RBLevelsCWB3 | 384 384 256 256 |
WB_RBLevelsCWB4 | 384 384 256 256 |
WhiteBalance (2) | As Shot |
WhiteBalance | Auto |
WhiteBalance2 | Auto |
WhiteBalanceBracket | 0 0 |
WhiteBalanceTemperature | Auto |
Whites2012 | -10 |
ZoomStepCount | 0 |