Felt | Verdi |
AlreadyApplied | True |
Aperture | 5.6 |
ApertureValue | 5.6 |
Artist | GEIR BRAATHEN |
AutoLateralCA | 1 |
BitsPerSample | 8 |
Blacks2012 | 0 |
BlueHue | 0 |
BlueSaturation | 0 |
By-line | GEIR BRAATHEN |
CameraProfile | Camera Vivid |
CameraProfilesApertureValue | 4.970854 |
CameraProfilesAuthor | Adobe |
CameraProfilesAutoScale | False |
CameraProfilesCameraPrettyName | Nikon Z 8 |
CameraProfilesCameraRawProfile | True |
CameraProfilesFocalLength | 420 |
CameraProfilesFocusDistance | 10000 |
CameraProfilesLens | VR 300mm f/4E |
CameraProfilesLensPrettyName | VR 300mm f/4E |
CameraProfilesMake | NIKON CORPORATION |
CameraProfilesModel | NIKON Z 8 |
CameraProfilesPerspectiveModelRadialDistortParam1 | 1.801292 |
CameraProfilesPerspectiveModelRadialDistortParam2 | -738.731046 |
CameraProfilesPerspectiveModelRadialDistortParam3 | -59824.176808 |
CameraProfilesPerspectiveModelScaleFactor | 0.998988 |
CameraProfilesPerspectiveModelVersion | 2 |
CameraProfilesPerspectiveModelVignetteModelVignetteModelParam1 | 1 |
CameraProfilesProfileName | Camera Settings |
CameraProfilesSensorFormatFactor | 1.003485 |
CameraProfilesUniqueCameraModel | Nikon Z 8 |
CFAPattern | [Red,Green][Green,Blue] |
CircleOfConfusion | 0.030 mm |
City | Palavas-les-Flots |
Clarity2012 | +14 |
ColorComponents | 3 |
ColorGradeBlending | 50 |
ColorGradeGlobalHue | 0 |
ColorGradeGlobalLum | 0 |
ColorGradeGlobalSat | 0 |
ColorGradeHighlightLum | 0 |
ColorGradeMidtoneHue | 0 |
ColorGradeMidtoneLum | 0 |
ColorGradeMidtoneSat | 0 |
ColorGradeShadowLum | 0 |
ColorNoiseReduction | 25 |
ColorNoiseReductionDetail | 50 |
ColorNoiseReductionSmoothness | 50 |
ColorSpace | Uncalibrated |
ColorTemperature | 6500 |
ColorTransform | YCbCr |
CompatibleVersion | 251920384 |
Contrast | Normal |
Contrast2012 | +35 |
ConvertToGrayscale | False |
Copyright | GEIR BRAATHEN |
CopyrightNotice | GEIR BRAATHEN |
Country | France |
Country-PrimaryLocationCode | FR |
Country-PrimaryLocationName | France |
CountryCode | FR |
CreateDate (1) | 2023:12:28 14:25:48.79+01:00 |
CreateDate | 2023:12:28 14:25:48 |
Creator | GEIR BRAATHEN |
CreatorTool | Adobe Photoshop Lightroom Classic 13.1 (Macintosh) |
CropAngle | 0 |
CropBottom | 0.740012 |
CropConstrainToWarp | 0 |
CropLeft | 0.374779 |
CropRight | 0.629231 |
CropTop | 0.305726 |
CustomRendered | Custom |
DateCreated (1) | 2023:12:28 |
DateCreated | 2023:12:28 14:25:48.79+01:00 |
DateTimeOriginal | 2023:12:28 14:25:48 |
DefringeGreenAmount | 0 |
DefringeGreenHueHi | 60 |
DefringeGreenHueLo | 40 |
DefringePurpleAmount | 0 |
DefringePurpleHueHi | 70 |
DefringePurpleHueLo | 30 |
Dehaze | 0 |
DistortionCorrectionAlreadyApplied | True |
Exposure2012 | +0.25 |
ExposureCompensation | 0 |
ExposureMode | Auto |
ExposureProgram | Aperture-priority AE |
ExposureTime | 1/1000 |
Flash | No Flash |
FNumber | 5.6 |
FocalLength | 420.0 mm |
FocalLength35efl | 420.0 mm (35 mm equivalent: 420.0 mm) |
FocalLengthIn35mmFormat | 420 mm |
Format | image/jpeg |
FOV | 4.9 deg |
GainControl | Low gain up |
GPSAltitude (1) | 2 m |
GPSAltitude | 2 m Above Sea Level |
GPSAltitudeRef | Above Sea Level |
GPSDateStamp | 2023:12:28 |
GPSDateTime | 2023:12:28 13:25:02Z |
GPSLatitude (1) | 43 deg 32' 42.17" |
GPSLatitude | 43 deg 32' 42.17" N |
GPSLatitudeRef | North |
GPSLongitude (1) | 3 deg 58' 4.10" |
GPSLongitude | 3 deg 58' 4.10" E |
GPSLongitudeRef | East |
GPSMapDatum | WGS-84 |
GPSPosition | 43 deg 32' 42.17" N, 3 deg 58' 4.10" E |
GPSSatellites | 00 |
GPSTimeStamp | 13:25:02 |
GPSVersionID | 2.3.0.0 |
GrainAmount | 0 |
GreenHue | 0 |
GreenSaturation | 0 |
HasCrop | True |
HasSettings | True |
HDREditMode | 0 |
Highlights2012 | 0 |
HueAdjustmentAqua | 0 |
HueAdjustmentBlue | 0 |
HueAdjustmentGreen | 0 |
HueAdjustmentMagenta | 0 |
HueAdjustmentOrange | 0 |
HueAdjustmentPurple | 0 |
HueAdjustmentRed | 0 |
HueAdjustmentYellow | 0 |
HyperfocalDistance | 1048.38 m |
ImageHeight | 2400 |
ImageNumber | 7018 |
ImageSize | 2109x2400 |
ImageWidth | 2109 |
ISO | 900 |
LateralChromaticAberrationCorrectionAlreadyApplied | True |
Lens | VR 300mm f/4E |
LensInfo | 300mm f/4 |
LensManualDistortionAmount | 0 |
LensModel | VR 300mm f/4E |
LensProfileDistortionScale | 100 |
LensProfileEnable | 1 |
LensProfileIsEmbedded | True |
LensProfileName | Camera Settings |
LensProfileSetup | LensDefaults |
LensProfileVignettingScale | 100 |
LightSource | Unknown |
LightValue | 11.8 |
LuminanceAdjustmentAqua | 0 |
LuminanceAdjustmentBlue | 0 |
LuminanceAdjustmentGreen | 0 |
LuminanceAdjustmentMagenta | 0 |
LuminanceAdjustmentOrange | 0 |
LuminanceAdjustmentPurple | 0 |
LuminanceAdjustmentRed | 0 |
LuminanceAdjustmentYellow | 0 |
LuminanceNoiseReductionContrast | 0 |
LuminanceNoiseReductionDetail | 75 |
LuminanceSmoothing | 69 |
Make | NIKON CORPORATION |
Megapixels | 5.1 |
MeteringMode | Multi-segment |
Model | NIKON Z 8 |
ModifyDate (1) | 2023:12:28 20:14:35+01:00 |
ModifyDate | 2023:12:28 20:14:35 |
OverrideLookVignette | False |
ParametricDarks | 0 |
ParametricHighlights | 0 |
ParametricHighlightSplit | 75 |
ParametricLights | 0 |
ParametricMidtoneSplit | 50 |
ParametricShadows | 0 |
ParametricShadowSplit | 25 |
PerspectiveAspect | 0 |
PerspectiveHorizontal | 0 |
PerspectiveRotate | 0.0 |
PerspectiveScale | 100 |
PerspectiveUpright | 0 |
PerspectiveVertical | 0 |
PerspectiveX | 0.00 |
PerspectiveY | 0.00 |
PointColors | -1.000000, -1.000000, -1.000000, -1.000000, -1.000000, -1.000000, -1.000000, -1.000000, -1.000000, -1.000000, -1.000000, -1.000000, -1.000000, -1.000000, -1.000000, -1.000000, -1.000000, -1.000000, -1.000000 |
PostCropVignetteAmount | 0 |
PreservedFileName | GOB_7049.NEF |
ProcessVersion | 15.4 |
ProfileDescription | Display P3 |
Province-State | Hérault |
RawFileName | GOB_7049.NEF |
RecommendedExposureIndex | 900 |
RedHue | 0 |
RedSaturation | 0 |
Rights | GEIR BRAATHEN |
Saturation (1) | 0 |
Saturation | Normal |
SaturationAdjustmentAqua | 0 |
SaturationAdjustmentBlue | 0 |
SaturationAdjustmentGreen | 0 |
SaturationAdjustmentMagenta | 0 |
SaturationAdjustmentOrange | 0 |
SaturationAdjustmentPurple | 0 |
SaturationAdjustmentRed | 0 |
SaturationAdjustmentYellow | 0 |
ScaleFactor35efl | 1.0 |
SceneCaptureType | Portrait |
SceneType | Directly photographed |
SensingMethod | One-chip color area |
SensitivityType | Recommended Exposure Index |
SerialNumber | 6020619 |
Shadows2012 | 0 |
ShadowTint | 0 |
SharpenDetail | 25 |
SharpenEdgeMasking | 0 |
SharpenRadius | +2.0 |
Sharpness (1) | 24 |
Sharpness | Normal |
ShutterSpeed | 1/1000 |
ShutterSpeedValue | 1/1000 |
Software | Adobe Photoshop Lightroom Classic 13.1 (Macintosh) |
SplitToningBalance | 0 |
SplitToningHighlightHue | 0 |
SplitToningHighlightSaturation | 0 |
SplitToningShadowHue | 0 |
SplitToningShadowSaturation | 0 |
State | Hérault |
SubjectDistanceRange | Unknown |
Texture | +33 |
Tint | +10 |
ToneCurveName2012 | Linear |
ToneCurvePV2012 | 0, 0, 255, 255 |
ToneCurvePV2012Blue | 0, 0, 255, 255 |
ToneCurvePV2012Green | 0, 0, 255, 255 |
ToneCurvePV2012Red | 0, 0, 255, 255 |
Version | 16.1 |
Vibrance | 0 |
VignetteAmount | 0 |
VignetteCorrectionAlreadyApplied | True |
WhiteBalance (1) | Cloudy |
WhiteBalance | Auto |
Whites2012 | 0 |